BEGIN:VCALENDAR
VERSION:2.0
PRODID:-//PEL-tuote - ECPv6.15.20//NONSGML v1.0//EN
CALSCALE:GREGORIAN
METHOD:PUBLISH
X-ORIGINAL-URL:https://pel-tuote.fi/en/
X-WR-CALDESC:Events for PEL-tuote
REFRESH-INTERVAL;VALUE=DURATION:PT1H
X-Robots-Tag:noindex
X-PUBLISHED-TTL:PT1H
BEGIN:VTIMEZONE
TZID:UTC
BEGIN:STANDARD
TZOFFSETFROM:+0000
TZOFFSETTO:+0000
TZNAME:UTC
DTSTART:20210101T000000
END:STANDARD
END:VTIMEZONE
BEGIN:VEVENT
DTSTART;TZID=UTC:20220331T080000
DTEND;TZID=UTC:20220402T170000
DTSTAMP:20260421T081812
CREATED:20220414T055241Z
LAST-MODIFIED:20220414T055243Z
UID:21041-1648713600-1648918800@pel-tuote.fi
SUMMARY:Ką pasėsi Lithuania 2022
DESCRIPTION:Ką pasėsi international agricultural exhibition in Lithuania March 31 – April 2\, 2022.
URL:https://pel-tuote.fi/en/event/ka-pasesi-lithuania-2022/
ATTACH;FMTTYPE=image/png:https://pel-tuote.fi/wp-content/uploads/2022/03/kapasesi.png
END:VEVENT
END:VCALENDAR