BEGIN:VCALENDAR
VERSION:2.0
PRODID:-//PEL-tuote - ECPv6.15.20//NONSGML v1.0//EN
CALSCALE:GREGORIAN
METHOD:PUBLISH
X-WR-CALNAME:PEL-tuote
X-ORIGINAL-URL:https://pel-tuote.fi/en/
X-WR-CALDESC:Events for PEL-tuote
REFRESH-INTERVAL;VALUE=DURATION:PT1H
X-Robots-Tag:noindex
X-PUBLISHED-TTL:PT1H
BEGIN:VTIMEZONE
TZID:UTC
BEGIN:STANDARD
TZOFFSETFROM:+0000
TZOFFSETTO:+0000
TZNAME:UTC
DTSTART:20210101T000000
END:STANDARD
END:VTIMEZONE
BEGIN:VEVENT
DTSTART;TZID=UTC:20221104T080000
DTEND;TZID=UTC:20221106T170000
DTSTAMP:20260420T110651
CREATED:20221017T035512Z
LAST-MODIFIED:20221017T035512Z
UID:21962-1667548800-1667754000@pel-tuote.fi
SUMMARY:Agrovisjon Stavanger\, Norway
DESCRIPTION:Agrovisjon Agricultural fair in Stavanger sentrum\, Norway.
URL:https://pel-tuote.fi/en/event/agrovisjon-stavanger-norway/
CATEGORIES:Agricultural fair
ATTACH;FMTTYPE=image/png:https://pel-tuote.fi/wp-content/uploads/2022/08/agrovisjon_logo.png
END:VEVENT
END:VCALENDAR