BEGIN:VCALENDAR
VERSION:2.0
PRODID:-//PEL-tuote - ECPv6.15.20//NONSGML v1.0//EN
CALSCALE:GREGORIAN
METHOD:PUBLISH
X-ORIGINAL-URL:https://pel-tuote.fi
X-WR-CALDESC:Tapahtumat PEL-tuote
REFRESH-INTERVAL;VALUE=DURATION:PT1H
X-Robots-Tag:noindex
X-PUBLISHED-TTL:PT1H
BEGIN:VTIMEZONE
TZID:UTC
BEGIN:STANDARD
TZOFFSETFROM:+0000
TZOFFSETTO:+0000
TZNAME:UTC
DTSTART:20210101T000000
END:STANDARD
END:VTIMEZONE
BEGIN:VEVENT
DTSTART;TZID=UTC:20220126T080000
DTEND;TZID=UTC:20220129T170000
DTSTAMP:20260423T203904
CREATED:20211129T050646Z
LAST-MODIFIED:20211202T091257Z
UID:17660-1643184000-1643475600@pel-tuote.fi
SUMMARY:Fieragricola
DESCRIPTION:THE 115TH EDITION OF THEINTERNATIONAL AGRICULTURAL EXHIBITIONSCHEDULED IN VERONA26-29 JANUARY
URL:https://pel-tuote.fi/tapahtuma/fieragricola/
END:VEVENT
BEGIN:VEVENT
DTSTART;TZID=UTC:20220128T090000
DTEND;TZID=UTC:20220129T160000
DTSTAMP:20260423T203904
CREATED:20211124T042352Z
LAST-MODIFIED:20211124T063230Z
UID:17515-1643360400-1643472000@pel-tuote.fi
SUMMARY:Sarka
DESCRIPTION:Maaseutuelinkeinon ammattilaiset löydät Sarkamessuilta 28.-29.1.2022
URL:https://pel-tuote.fi/tapahtuma/sarka-messut/
ATTACH;FMTTYPE=image/png:https://pel-tuote.fi/wp-content/uploads/2020/01/sarka_vaaka_rgb.png
END:VEVENT
END:VCALENDAR