BEGIN:VCALENDAR
VERSION:2.0
PRODID:-//PEL-tuote - ECPv6.15.20//NONSGML v1.0//EN
CALSCALE:GREGORIAN
METHOD:PUBLISH
X-WR-CALNAME:PEL-tuote
X-ORIGINAL-URL:https://pel-tuote.fi
X-WR-CALDESC:Tapahtumat PEL-tuote
REFRESH-INTERVAL;VALUE=DURATION:PT1H
X-Robots-Tag:noindex
X-PUBLISHED-TTL:PT1H
BEGIN:VTIMEZONE
TZID:UTC
BEGIN:STANDARD
TZOFFSETFROM:+0000
TZOFFSETTO:+0000
TZNAME:UTC
DTSTART:20210101T000000
END:STANDARD
END:VTIMEZONE
BEGIN:VEVENT
DTSTART;TZID=UTC:20220816T080000
DTEND;TZID=UTC:20220818T170000
DTSTAMP:20260423T103704
CREATED:20220817T035017Z
LAST-MODIFIED:20220817T035155Z
UID:21574-1660636800-1660842000@pel-tuote.fi
SUMMARY:AgQuip Field days
DESCRIPTION:AUSTRALIA’S LARGEST AND PRE-EMINENT ANNUAL PRIMARY INDUSTRY EVENT.
URL:https://pel-tuote.fi/tapahtuma/agquip-field-days/
ATTACH;FMTTYPE=image/jpeg:https://pel-tuote.fi/wp-content/uploads/2022/08/AgQuipSponsoredByAON-Lockup-e1660718849240.jpeg
END:VEVENT
END:VCALENDAR