BEGIN:VCALENDAR
VERSION:2.0
PRODID:-//PEL-tuote - ECPv6.15.20//NONSGML v1.0//EN
CALSCALE:GREGORIAN
METHOD:PUBLISH
X-ORIGINAL-URL:https://pel-tuote.fi
X-WR-CALDESC:Tapahtumat PEL-tuote
REFRESH-INTERVAL;VALUE=DURATION:PT1H
X-Robots-Tag:noindex
X-PUBLISHED-TTL:PT1H
BEGIN:VTIMEZONE
TZID:UTC
BEGIN:STANDARD
TZOFFSETFROM:+0000
TZOFFSETTO:+0000
TZNAME:UTC
DTSTART:20210101T000000
END:STANDARD
END:VTIMEZONE
BEGIN:VEVENT
DTSTART;TZID=UTC:20220331T080000
DTEND;TZID=UTC:20220402T170000
DTSTAMP:20260423T145604
CREATED:20220308T040203Z
LAST-MODIFIED:20220308T060844Z
UID:20314-1648713600-1648918800@pel-tuote.fi
SUMMARY:Ką pasėsi Lithuania 2022
DESCRIPTION:Ką pasėsi international agricultural exhibition in Lithuania March 31 – April 2\, 2022.
URL:https://pel-tuote.fi/tapahtuma/ka-pasesi/
END:VEVENT
BEGIN:VEVENT
DTSTART;TZID=UTC:20220421T080000
DTEND;TZID=UTC:20220424T170000
DTSTAMP:20260423T145604
CREATED:20220314T070848Z
LAST-MODIFIED:20220414T062513Z
UID:20446-1650528000-1650819600@pel-tuote.fi
SUMMARY:AGRA messe Leipzig
DESCRIPTION:The most important face-to-face event for the agricultural sector in East and Central Germany will finally be able to welcome again its exhibitors and visitors to the Leipzig Exhibition Center in 2022.
URL:https://pel-tuote.fi/tapahtuma/agra-messe-leipzig/
CATEGORIES:Maatalous
END:VEVENT
BEGIN:VEVENT
DTSTART;TZID=UTC:20220421T080000
DTEND;TZID=UTC:20220423T170000
DTSTAMP:20260423T145604
CREATED:20220412T083621Z
LAST-MODIFIED:20220412T084351Z
UID:20993-1650528000-1650733200@pel-tuote.fi
SUMMARY:Maamess Tarto
DESCRIPTION:28. kansainväliset maaseutumessut MAAMESS järjestetään 21.-23. huhtikuuta 2022 Tarton Messukeskuksessa. Messut tuovat yhteen maa-\, metsä-\, puutarha- ja elintarviketeollisuuden yrityksiä.
URL:https://pel-tuote.fi/tapahtuma/maamess-tarto/
CATEGORIES:Maatalous
END:VEVENT
BEGIN:VEVENT
DTSTART;TZID=UTC:20220425T080000
DTEND;TZID=UTC:20220427T180000
DTSTAMP:20260423T145604
CREATED:20220414T082524Z
LAST-MODIFIED:20220414T082529Z
UID:21090-1650873600-1651082400@pel-tuote.fi
SUMMARY:Agrishow Brazil
DESCRIPTION:Agrishow is the biggest and most important agricultural technology trade show in Brazil and one of the largest in the world.It is the only trade show that brings together agricultural solutions for all types of crops and property sizes and it is recognized as the leading showcase for the main technological trends and innovations in agribusiness.
URL:https://pel-tuote.fi/tapahtuma/agrishow-brazil/
ATTACH;FMTTYPE=image/png:https://pel-tuote.fi/wp-content/uploads/2020/01/1647637698084.png
END:VEVENT
END:VCALENDAR