BEGIN:VCALENDAR
VERSION:2.0
PRODID:-//PEL-tuote - ECPv6.15.20//NONSGML v1.0//EN
CALSCALE:GREGORIAN
METHOD:PUBLISH
X-WR-CALNAME:PEL-tuote
X-ORIGINAL-URL:https://pel-tuote.fi
X-WR-CALDESC:Tapahtumat PEL-tuote
REFRESH-INTERVAL;VALUE=DURATION:PT1H
X-Robots-Tag:noindex
X-PUBLISHED-TTL:PT1H
BEGIN:VTIMEZONE
TZID:UTC
BEGIN:STANDARD
TZOFFSETFROM:+0000
TZOFFSETTO:+0000
TZNAME:UTC
DTSTART:20210101T000000
END:STANDARD
END:VTIMEZONE
BEGIN:VEVENT
DTSTART;TZID=UTC:20220623T000000
DTEND;TZID=UTC:20220626T235959
DTSTAMP:20260423T120956
CREATED:20220414T084128Z
LAST-MODIFIED:20220414T084820Z
UID:21113-1655942400-1656287999@pel-tuote.fi
SUMMARY:Royal Highland Show Scotland
DESCRIPTION:The Royal Highland Show is an annual event\, showcasing the best of food\, farming and rural life at Ingliston in Edinburgh.
URL:https://pel-tuote.fi/tapahtuma/royal-highland-show-scotland/
END:VEVENT
BEGIN:VEVENT
DTSTART;TZID=UTC:20220629T000000
DTEND;TZID=UTC:20220630T235959
DTSTAMP:20260423T120956
CREATED:20220414T085501Z
LAST-MODIFIED:20220617T062822Z
UID:21120-1656460800-1656633599@pel-tuote.fi
SUMMARY:Borgeby Fältdagar
DESCRIPTION:Borgeby Fältdagar in Sweden 29.-30. June 2022!\n\n\n\nWelcome back to the agricultural fair for professional farmers!
URL:https://pel-tuote.fi/tapahtuma/borgeby-faltdagar/
ATTACH;FMTTYPE=image/jpeg:https://pel-tuote.fi/wp-content/uploads/2020/01/borgeby2021-e1655458074541.jpg
END:VEVENT
BEGIN:VEVENT
DTSTART;TZID=UTC:20220630T000000
DTEND;TZID=UTC:20220702T235959
DTSTAMP:20260423T120956
CREATED:20211125T045710Z
LAST-MODIFIED:20220412T091133Z
UID:17543-1656547200-1656806399@pel-tuote.fi
SUMMARY:Farmari
DESCRIPTION:Maatalousnäyttely Mikkelissä kesällä 2022.
URL:https://pel-tuote.fi/tapahtuma/farmari/
END:VEVENT
END:VCALENDAR