BEGIN:VCALENDAR
VERSION:2.0
PRODID:-//PEL-tuote - ECPv6.15.20//NONSGML v1.0//EN
CALSCALE:GREGORIAN
METHOD:PUBLISH
X-ORIGINAL-URL:https://pel-tuote.fi
X-WR-CALDESC:Tapahtumat PEL-tuote
REFRESH-INTERVAL;VALUE=DURATION:PT1H
X-Robots-Tag:noindex
X-PUBLISHED-TTL:PT1H
BEGIN:VTIMEZONE
TZID:UTC
BEGIN:STANDARD
TZOFFSETFROM:+0000
TZOFFSETTO:+0000
TZNAME:UTC
DTSTART:20210101T000000
END:STANDARD
END:VTIMEZONE
BEGIN:VEVENT
DTSTART;TZID=UTC:20221013T000000
DTEND;TZID=UTC:20221015T235959
DTSTAMP:20260423T065136
CREATED:20220414T111444Z
LAST-MODIFIED:20220414T111607Z
UID:21134-1665619200-1665878399@pel-tuote.fi
SUMMARY:Maatalouskonemessut
DESCRIPTION:MaatalousKonemessut 2022 esittelee isosti koko maatalouden koneet\, laitteet ja palvelut!\n\n\n\nTarjolla on saman katon alla historian laajin kattaus koneita\, laitteita ja palveluita maatalouden tarpeisiin. Sisä- ja ulko-osastoilla oli vuonna 2018 esillä yli 300 yrityksen tuotteet ja palvelut! \n\n\n\nMessuilla esitellään laajasti nurmi-\, vilja- ja karjatalouden koneita ja laitteita. Esillä ovat myös eläinten ruokinta\, karjatalouden tuotantopanokset ja rakentaminen\, kasvinviljelyn tuotantopanokset ja viljakauppa\, ulko-alueiden hoidon ja urakoinnin koneet ja laitteet sekä metsätalouden koneet\, laitteet ja palvelut. Tapahtuman ohjelman laadun ja kiinnostavuuden takaa ammattitaitoinen ProAgria verkostoineen. \n\n\n\nMaatalousKonemessut keräsi 2018 järjestetyssä tapahtumassa 16 800 vierailijaa Messukeskukseen. \n\n\n\nhttps://maatalouskone.messukeskus.com/
URL:https://pel-tuote.fi/tapahtuma/maatalouskonemessut/
CATEGORIES:Maatalous
END:VEVENT
BEGIN:VEVENT
DTSTART;TZID=UTC:20221019T080000
DTEND;TZID=UTC:20221021T170000
DTSTAMP:20260423T065136
CREATED:20220822T041353Z
LAST-MODIFIED:20220829T095420Z
UID:21593-1666166400-1666371600@pel-tuote.fi
SUMMARY:Elmia Agriculture Sweden
DESCRIPTION:Elmia Agriculture is the business arena that creates the conditions for a strong Swedish agricultural industry. A sustainable and profitable industry with growth. An industry with room for both a great love of farming and a curiosity about innovative ways forward in a competitive world. \n\n\n\nAt the fair\, we highlight the climate issue from several aspects in order to show solutions that exist today\, but above all to find development opportunities for the industry.
URL:https://pel-tuote.fi/tapahtuma/elmia-agriculture-sweden/
CATEGORIES:Maatalous
END:VEVENT
END:VCALENDAR