BEGIN:VCALENDAR
VERSION:2.0
PRODID:-//PEL-tuote - ECPv6.15.20//NONSGML v1.0//EN
CALSCALE:GREGORIAN
METHOD:PUBLISH
X-WR-CALNAME:PEL-tuote
X-ORIGINAL-URL:https://pel-tuote.fi
X-WR-CALDESC:Tapahtumat PEL-tuote
REFRESH-INTERVAL;VALUE=DURATION:PT1H
X-Robots-Tag:noindex
X-PUBLISHED-TTL:PT1H
BEGIN:VTIMEZONE
TZID:UTC
BEGIN:STANDARD
TZOFFSETFROM:+0000
TZOFFSETTO:+0000
TZNAME:UTC
DTSTART:20220101T000000
END:STANDARD
END:VTIMEZONE
BEGIN:VEVENT
DTSTART;TZID=UTC:20230705T080000
DTEND;TZID=UTC:20230707T170000
DTSTAMP:20260422T045305
CREATED:20230201T055422Z
LAST-MODIFIED:20230406T060558Z
UID:23276-1688544000-1688749200@pel-tuote.fi
SUMMARY:Okra-maatalousnäyttely
DESCRIPTION:OKRA – maatalousnäyttely Yksi Suomen suurimmista maatalousnäyttelyistä kokoaa Oripäähän tuhannet messukävijät\, sadat näytteilleasettajat ja oikean maatalousnäyttelyn tunnelman. Koko perheen OKRA antaa katseltavaa ja koettavaa kaiken ikäisille\, mutta myös maa- ja metsätalouden ammattilaisille. Eläimet\, koneet\, kädentaidot ja tivolihuvit tekevät OKRA:sta paljon enemmän\, kuin pelkän maatalousnäyttelyn.
URL:https://pel-tuote.fi/tapahtuma/okra-maatalousnayttely/
ATTACH;FMTTYPE=image/jpeg:https://pel-tuote.fi/wp-content/uploads/2020/01/OKRA_logo_vihrea_pieni.jpg
END:VEVENT
END:VCALENDAR