BEGIN:VCALENDAR
VERSION:2.0
PRODID:-//PEL-tuote - ECPv6.15.20//NONSGML v1.0//EN
CALSCALE:GREGORIAN
METHOD:PUBLISH
X-WR-CALNAME:PEL-tuote
X-ORIGINAL-URL:https://pel-tuote.fi
X-WR-CALDESC:Tapahtumat PEL-tuote
REFRESH-INTERVAL;VALUE=DURATION:PT1H
X-Robots-Tag:noindex
X-PUBLISHED-TTL:PT1H
BEGIN:VTIMEZONE
TZID:UTC
BEGIN:STANDARD
TZOFFSETFROM:+0000
TZOFFSETTO:+0000
TZNAME:UTC
DTSTART:20230101T000000
END:STANDARD
END:VTIMEZONE
BEGIN:VEVENT
DTSTART;TZID=UTC:20240704T080000
DTEND;TZID=UTC:20240706T170000
DTSTAMP:20260420T162747
CREATED:20231218T103030Z
LAST-MODIFIED:20231218T103035Z
UID:26230-1720080000-1720285200@pel-tuote.fi
SUMMARY:Farmari Seinäjoki 2024
DESCRIPTION:Farmari Seinäjoki 2024 \n\n\n\nPEL-tuote ja Tume-Agri ovat mukana Farmari-maatalousnäyttelyssä Seinäjoella 4.-6.7.2024! Paikkana Seinäjoki Areenan ja Uimahalli-Urheilutalon ympäristö. \n\n\n\nFarmari on vastuullisen suomalaisen maatalouden ja ruoantuotannon ammattitapahtuma ja näyteikkuna. Tapahtuma on täynnä ideoita ja ratkaisuja maatalouteen ja maaseutuyrittämiseen. \n\n\n\nAsiaa ja elämyksiä! \n\n\n\nFarmarissa on luvassa: \n\n\n\nKotieläinkenttä eläimineen ja tapahtumakehineen\,kattava konekenttäalue uutuuksineen\,monipuolinen metsäosasto\,palveluita ja osaamista tarjoavat osastot sisä- ja ulkoalueilla. \n\n\n\nMukana on lisäksi ruoka-\, kädentaito- sekä eräosastoja sekä runsas kattaus ohjelmaa.
URL:https://pel-tuote.fi/tapahtuma/farmari-seinajoki-2024/
ATTACH;FMTTYPE=image/png:https://pel-tuote.fi/wp-content/uploads/2023/12/Farmari2024_varillinen_pvm.png
END:VEVENT
END:VCALENDAR